BEGIN:VCALENDAR
VERSION:2.0
PRODID:-//Dream Kids Club Miramadrid - ECPv6.15.20//NONSGML v1.0//EN
CALSCALE:GREGORIAN
METHOD:PUBLISH
X-WR-CALNAME:Dream Kids Club Miramadrid
X-ORIGINAL-URL:https://dreamkidsclub.es
X-WR-CALDESC:Eventos para Dream Kids Club Miramadrid
REFRESH-INTERVAL;VALUE=DURATION:PT1H
X-Robots-Tag:noindex
X-PUBLISHED-TTL:PT1H
BEGIN:VTIMEZONE
TZID:UTC
BEGIN:STANDARD
TZOFFSETFROM:+0000
TZOFFSETTO:+0000
TZNAME:UTC
DTSTART:20230101T000000
END:STANDARD
END:VTIMEZONE
BEGIN:VEVENT
DTSTART;TZID=UTC:20241026T190000
DTEND;TZID=UTC:20241027T110000
DTSTAMP:20260424T133900
CREATED:20240219T033436Z
LAST-MODIFIED:20241003T174652Z
UID:1740-1729969200-1730026800@dreamkidsclub.es
SUMMARY:Halloween Night
DESCRIPTION:¡Halloween está a la vuelta de la esquina y en Dream Kids Club estamos listos para una fiesta espeluznante y divertida! Te invitamos a nuestra Pyjama Party de Halloween\, un evento especial que promete llenar de risas y aventuras la noche del 26 de octubre. \n¿Qué puedes esperar de nuestra Pyjama Party de Halloween? \nLos niños tendrán la oportunidad de disfrutar de una noche mágica\, llena de actividades temáticas que celebran la festividad de una manera divertida y segura. Desde juegos de terror\, manualidades de Halloween\, hasta una emocionante búsqueda del tesoro con sorpresas espeluznantes\, habrá algo para todos. \nAdemás\, todos los pequeños están invitados a venir con su pijama favorito y su mejor disfraz de Halloween para dar rienda suelta a su creatividad. \nComida y Bebida \nDurante la fiesta\, los niños disfrutarán de una cena deliciosa  y un desayuno para comenzar el día con energía. Las opciones de comida se adaptarán a las preferencias de cada niño para asegurar que todos disfruten de la celebración.
URL:https://dreamkidsclub.es/eventos/halloween/
LOCATION:Colegio Miramadrid\, Avd. Juan Pablo II. S/N\, Paracuellos de Jarama\, Madrid\, 28860\, España
ATTACH;FMTTYPE=image/jpeg:https://dreamkidsclub.es/wp-content/uploads/2024/02/Designer-4.jpeg
END:VEVENT
END:VCALENDAR